BEGIN:VCALENDAR
VERSION:2.0
PRODID:-//Chinese American Pathologists Association - ECPv6.15.3//NONSGML v1.0//EN
CALSCALE:GREGORIAN
METHOD:PUBLISH
X-WR-CALNAME:Chinese American Pathologists Association
X-ORIGINAL-URL:https://dev.capaht.org
X-WR-CALDESC:Events for Chinese American Pathologists Association
REFRESH-INTERVAL;VALUE=DURATION:PT1H
X-Robots-Tag:noindex
X-PUBLISHED-TTL:PT1H
BEGIN:VTIMEZONE
TZID:America/Los_Angeles
BEGIN:DAYLIGHT
TZOFFSETFROM:-0800
TZOFFSETTO:-0700
TZNAME:PDT
DTSTART:20190310T100000
END:DAYLIGHT
BEGIN:STANDARD
TZOFFSETFROM:-0700
TZOFFSETTO:-0800
TZNAME:PST
DTSTART:20191103T090000
END:STANDARD
END:VTIMEZONE
BEGIN:VTIMEZONE
TZID:America/Chicago
BEGIN:DAYLIGHT
TZOFFSETFROM:-0600
TZOFFSETTO:-0500
TZNAME:CDT
DTSTART:20170312T080000
END:DAYLIGHT
BEGIN:STANDARD
TZOFFSETFROM:-0500
TZOFFSETTO:-0600
TZNAME:CST
DTSTART:20171105T070000
END:STANDARD
BEGIN:DAYLIGHT
TZOFFSETFROM:-0600
TZOFFSETTO:-0500
TZNAME:CDT
DTSTART:20180311T080000
END:DAYLIGHT
BEGIN:STANDARD
TZOFFSETFROM:-0500
TZOFFSETTO:-0600
TZNAME:CST
DTSTART:20181104T070000
END:STANDARD
END:VTIMEZONE
BEGIN:VEVENT
DTSTART;TZID=America/Los_Angeles:20190831T123000
DTEND;TZID=America/Los_Angeles:20190901T170000
DTSTAMP:20260423T174249
CREATED:20190322T012435Z
LAST-MODIFIED:20190503T045452Z
UID:2966-1567254600-1567357200@dev.capaht.org
SUMMARY:2019 CAPA Annual Diagnostic Course
DESCRIPTION:﻿ \nOpen for Registration: 2019 CAPA Annual Diagnostic Course\n\n \n﻿Dear CAPA Members：\nWe are happy to announce that the 5th Annual CAPA Diagnostic Course is open for registration!   \n﻿Time:\nSat and Sun\, 08/31/2019-09/01/2019 (Saturday 8/31: whole day; Sunday Sept 1: half day)\nSchedule: CAPA 2019 Annual Diagnostic Course Schedule\n \n﻿Registration:\nOnline Registration Link \n﻿Location:\nHilton Los Angeles /San Gabriel\n225 West Valley Blvd\nSan Gabriel\, CA 91776\n626-270-2700\nPlease mention CCAP (Group code) when reserving rooms.\n \n﻿Accommodations:\nA: Approximately 130 rooms with the following beds and price are reserved for CAPA before July 1st\, 2019:\nB: Single King bed: 65 rooms with 159/night +13% occupancy /tourism tax with free Wifi\nDouble 2 queen beds: 65 rooms with 169/night +13% occupancy /tourism tax with free Wifi. \nThank you for your attention\, and we are looking forward to seeing you at the meeting. \nCAPA Education Committee
URL:https://dev.capaht.org/event/2019-capa-annual-diagnostic-course/
LOCATION:Hilton Los Angeles/San Gabriel\, 225 W Valley Blvd\, San Gabriel\, CA\, 91776\, United States
CATEGORIES:Meeting
ATTACH;FMTTYPE=image/jpeg:https://dev.capaht.org/wp-content/uploads/2019/03/Hilton-at-Gabriel.jpg
END:VEVENT
BEGIN:VEVENT
DTSTART;TZID=America/Chicago:20180825T130000
DTEND;TZID=America/Chicago:20180826T220000
DTSTAMP:20260423T174249
CREATED:20180720T154041Z
LAST-MODIFIED:20190322T005641Z
UID:1326-1535202000-1535320800@dev.capaht.org
SUMMARY:The 4th CAPA Diagnostic Course
DESCRIPTION:The 4th CAPA Diagnostic Pathology Course will be held in August 25-26\, 2018 at Sheraton LaGuadia East Hotel\, Flushing\, New York. Please see meeting agenda provided above. This one and half days course will offer essential knowledge and updated information in a variety of subspecialties\, including Head & Neck\, GI\, Hematopath\, Breast\, GYN\, GU\, Cytopathology\, Molecular Pathology\, Forensic Pathology and Interesting Cases. The course will provide up to 14.5\, but 8.75 for each attendee AMA PRA Category 1 Credits. In addition\, there are two fun sessions in Sunday morning. Career Development Session provides attendees opportunity to chat with experienced senior CAPA members (from both academic and private practice) and discuss professional-related issues; Photographic Session is prepared for those who are keen on photography. \nTo register online please visit “https://goo.gl/forms/S4p9hE4UuCfafiUH3”. Payment needs be done below on this page. Should you have any questions\, please contact Dr. Zenggang Pan at (402) 320-7437 or “panzenggang@yahoo.com”. \n\nMake payment for the 2018 course here:\n1) Use the pulldown menu to choose the payment option;\n2) Click “Add to Cart” button; you will then go to the page of “Shopping Cart”.\n3) In the “Shopping Cart”\, you can use either Paypal or a credit card. Credit card payment needs to click the lower grey button (shown in the sample image at the bottom).\n(Some users experienced problems with Paypal when connected through WeChat. If so\, please try connecting to this page directly in a web browser. ) \n \n\n\n\nRegistration Fees\n\n\nRegular/Lifetime Member $100.00 USDNonmember $150.00 USD\n\n\n\n\n\n \n\n 
URL:https://dev.capaht.org/event/the-4th-capa-diagnostic-course/
LOCATION:Sheraton LaGuadia East Hotel\, 13520 39th Ave\, Flushing\, NY\, 11354\, United States
CATEGORIES:Meeting
ATTACH;FMTTYPE=image/jpeg:https://dev.capaht.org/wp-content/uploads/2018/07/NYC.jpeg
END:VEVENT
BEGIN:VEVENT
DTSTART;VALUE=DATE:20170819
DTEND;VALUE=DATE:20170822
DTSTAMP:20260423T174249
CREATED:20181120T061052Z
LAST-MODIFIED:20181120T061052Z
UID:1863-1503118800-1503291599@dev.capaht.org
SUMMARY:CAPA meeting case presentation preview
DESCRIPTION:Here is the link (Cleveland Clinic ePathology SlideDepot https://slidedepot.clevelandclinic.org ) to the digital images of the cases which will be presented at the meeting on Aug 20 (Sunday). Feel free to preview them before the meeting.\n– Username: attendee2\n– Password: capaconf\nThese slides will be available for you through this link until September 29th.  Internet Explore and Firefox work well\, but Chrome is not supported. \nPDF 2017 Chicago CAPA meeting Cases
URL:https://dev.capaht.org/event/capa-meeting-case-presentation-preview/
LOCATION:CA
CATEGORIES:Meeting
END:VEVENT
END:VCALENDAR